BEGIN:VCALENDAR
VERSION:2.0
PRODID:-//Das Unbehagen - ECPv4.7.3//NONSGML v1.0//EN
CALSCALE:GREGORIAN
METHOD:PUBLISH
X-WR-CALNAME:Das Unbehagen
X-ORIGINAL-URL:http://dasunbehagen.org
X-WR-CALDESC:Events for Das Unbehagen
BEGIN:VEVENT
DTSTART;TZID=America/New_York:20170520T180000
DTEND;TZID=America/New_York:20170520T200000
DTSTAMP:20260419T162940
CREATED:20170401T141557Z
LAST-MODIFIED:20170430T151051Z
UID:6291-1495303200-1495310400@dasunbehagen.org
SUMMARY:Schreber LIVE!
DESCRIPTION: \nClick here to view program as PDF \n
URL:http://dasunbehagen.org/event/schreber-live-live-schreber/
LOCATION:Jefferson Market Library\, 425 6th Avenue (at West 9th Street)\, New York\, NY\, 10011\, United States
ATTACH;FMTTYPE=image/jpeg:http://dasunbehagen.org/wp-content/uploads/IMG_1920.jpg
END:VEVENT
END:VCALENDAR