BEGIN:VCALENDAR
VERSION:2.0
PRODID:-//Das Unbehagen - ECPv4.7.3//NONSGML v1.0//EN
CALSCALE:GREGORIAN
METHOD:PUBLISH
X-WR-CALNAME:Das Unbehagen
X-ORIGINAL-URL:http://dasunbehagen.org
X-WR-CALDESC:Events for Das Unbehagen
BEGIN:VEVENT
DTSTART;TZID=America/New_York:20140607T200000
DTEND;TZID=America/New_York:20140607T220000
DTSTAMP:20260421T085144
CREATED:20160131T121459Z
LAST-MODIFIED:20160201T201215Z
UID:5249-1402171200-1402178400@dasunbehagen.org
SUMMARY:Angelo Villa: Pyschoanalysis and the Handicapped
DESCRIPTION:I am pleased to send an announcement for our final clinical study day with Angelo Villa on June 7th from 2–4pm at 80 Fifth Avenue Room Room G529.\n\nWhat I think is of particular interest to Das Unbehagen is Villa’s diverse training\, including experience working in institutions for autism and the handicapped\, psychosis and severe trauma\, as well as\, with children and families. He is someone whose work ranges from clinical studies\, to Lacanian and Kleinian theory\, to rock and roll\, and beyond. He is part of a long tradition of working in institutional settings as a psychoanalyst stemming from the early crossings of analysts in England and France from Bowlby\, to Winnicott\, Francois Dolto and Maud Mannoni. He is keenly sensitive to the role of a psychoanalyst in these environments and so follows our work earlier in the year with Ann Louise Silver and Ruth Weinberg.\n\nHis recent book – The Hand in the Cap= is translated and published with Karnac and you can read my preface published in Division/Review here: http://issuu.com/divisionreview/docs/dr_9final/2\n
URL:http://dasunbehagen.org/event/angelo-villa-pyschoanalysis-and-the-handicapped/
LOCATION:The New School\, Wollman Hall\, 66 West 12th Street\, New York\, NY\, United States
ATTACH;FMTTYPE=image/jpeg:http://dasunbehagen.org/wp-content/uploads/villa-hand-in-cap.jpg
END:VEVENT
END:VCALENDAR